BEGIN:VCALENDAR
VERSION:2.0
PRODID:-//Granite Planet - ECPv6.15.20//NONSGML v1.0//EN
CALSCALE:GREGORIAN
METHOD:PUBLISH
X-WR-CALNAME:Granite Planet
X-ORIGINAL-URL:https://www.graniteplanetband.com
X-WR-CALDESC:Events for Granite Planet
REFRESH-INTERVAL;VALUE=DURATION:PT1H
X-Robots-Tag:noindex
X-PUBLISHED-TTL:PT1H
BEGIN:VTIMEZONE
TZID:America/New_York
BEGIN:DAYLIGHT
TZOFFSETFROM:-0500
TZOFFSETTO:-0400
TZNAME:EDT
DTSTART:20180311T070000
END:DAYLIGHT
BEGIN:STANDARD
TZOFFSETFROM:-0400
TZOFFSETTO:-0500
TZNAME:EST
DTSTART:20181104T060000
END:STANDARD
BEGIN:DAYLIGHT
TZOFFSETFROM:-0500
TZOFFSETTO:-0400
TZNAME:EDT
DTSTART:20190310T070000
END:DAYLIGHT
BEGIN:STANDARD
TZOFFSETFROM:-0400
TZOFFSETTO:-0500
TZNAME:EST
DTSTART:20191103T060000
END:STANDARD
BEGIN:DAYLIGHT
TZOFFSETFROM:-0500
TZOFFSETTO:-0400
TZNAME:EDT
DTSTART:20200308T070000
END:DAYLIGHT
BEGIN:STANDARD
TZOFFSETFROM:-0400
TZOFFSETTO:-0500
TZNAME:EST
DTSTART:20201101T060000
END:STANDARD
END:VTIMEZONE
BEGIN:VEVENT
DTSTART;TZID=America/New_York:20190831T110000
DTEND;TZID=America/New_York:20190831T130000
DTSTAMP:20260425T113316
CREATED:20190127T201940Z
LAST-MODIFIED:20190127T201940Z
UID:350-1567249200-1567256400@www.graniteplanetband.com
SUMMARY:York Beach End of Summer Concert
DESCRIPTION:Granite Planet returns to York Beach on August 31\, 2019\, from 11am-1pm for an end of summer concert on the beach!
URL:https://www.graniteplanetband.com/event/york-beach-end-of-summer-concert/
CATEGORIES:Gig
END:VEVENT
BEGIN:VEVENT
DTSTART;TZID=America/New_York:20190821T130000
DTEND;TZID=America/New_York:20190821T170000
DTSTAMP:20260425T113316
CREATED:20190602T152841Z
LAST-MODIFIED:20190602T152841Z
UID:362-1566392400-1566406800@www.graniteplanetband.com
SUMMARY:TAP BBQ at Pease
DESCRIPTION:Granite Planet plays the TAP group annual summer BBQ at Pease!
URL:https://www.graniteplanetband.com/event/tap-bbq-at-pease/
LOCATION:Grille 28\, Portsmouth\, NH
CATEGORIES:Gig,Private Party
END:VEVENT
BEGIN:VEVENT
DTSTART;TZID=America/New_York:20190816T180000
DTEND;TZID=America/New_York:20190816T200000
DTSTAMP:20260425T113316
CREATED:20190602T152246Z
LAST-MODIFIED:20190602T152246Z
UID:357-1565978400-1565985600@www.graniteplanetband.com
SUMMARY:Huttopia Campground
DESCRIPTION:Granite Planet plays for guests at Huttopia in Sanford\, ME.
URL:https://www.graniteplanetband.com/event/huttopia-campground-2/
LOCATION:Huttopia Sanford\, ME
CATEGORIES:Gig,Private Party
END:VEVENT
BEGIN:VEVENT
DTSTART;TZID=America/New_York:20190731T180000
DTEND;TZID=America/New_York:20190731T200000
DTSTAMP:20260425T113316
CREATED:20190127T201424Z
LAST-MODIFIED:20190127T201424Z
UID:342-1564596000-1564603200@www.graniteplanetband.com
SUMMARY:Smyth Library Summer Concert Series
DESCRIPTION:Granite Planet plays the Smyth Library Summer Concert Series on July 31\, 2019 in Candia\, NH.
URL:https://www.graniteplanetband.com/event/smyth-library-summer-concert-series/
CATEGORIES:Gig
END:VEVENT
BEGIN:VEVENT
DTSTART;TZID=America/New_York:20190719T180000
DTEND;TZID=America/New_York:20190719T200000
DTSTAMP:20260425T113316
CREATED:20190602T152107Z
LAST-MODIFIED:20190602T152107Z
UID:354-1563559200-1563566400@www.graniteplanetband.com
SUMMARY:Huttopia Campground
DESCRIPTION:Granite Planet plays for guests at Huttopia in Sanford\, ME.
URL:https://www.graniteplanetband.com/event/huttopia-campground/
LOCATION:Huttopia Sanford\, ME
CATEGORIES:Gig,Private Party
END:VEVENT
BEGIN:VEVENT
DTSTART;TZID=America/New_York:20190711T183000
DTEND;TZID=America/New_York:20190711T200000
DTSTAMP:20260425T113316
CREATED:20190127T201648Z
LAST-MODIFIED:20190127T201648Z
UID:346-1562869800-1562875200@www.graniteplanetband.com
SUMMARY:Tuftonboro Pavillion Concert
DESCRIPTION:Join us on Thursday\, July 11\, 2019 for another summer playing the outdoor concert series at the Tuftonboro Pavillion!
URL:https://www.graniteplanetband.com/event/tuftonboro-pavillion-concert/
CATEGORIES:Gig
END:VEVENT
BEGIN:VEVENT
DTSTART;TZID=America/New_York:20190702T180000
DTEND;TZID=America/New_York:20190702T200000
DTSTAMP:20260425T113316
CREATED:20190127T201829Z
LAST-MODIFIED:20190127T201837Z
UID:348-1562090400-1562097600@www.graniteplanetband.com
SUMMARY:Newmarket Arts in the Parks
DESCRIPTION:Granite Planet will open the season of Arts in the Parks\, on Tuesday\, July 2\, 2019! Join us for this free concert at Schanda Park\, located down town on the water front from 6-8pm.
URL:https://www.graniteplanetband.com/event/newmarket-arts-in-the-parks/
CATEGORIES:Gig
END:VEVENT
BEGIN:VEVENT
DTSTART;TZID=America/New_York:20190624T190000
DTEND;TZID=America/New_York:20190624T210000
DTSTAMP:20260425T113316
CREATED:20190127T200653Z
LAST-MODIFIED:20190127T200653Z
UID:339-1561402800-1561410000@www.graniteplanetband.com
SUMMARY:Hampton Beach Shell Concert
DESCRIPTION:GP rocks the Hampton Beach Shell once again! We love playing this amazing outdoor gig right on the beach – join us on Monday\, June 24\, 2019 at 7pm. \n 
URL:https://www.graniteplanetband.com/event/hampton-beach-shell-concert/
LOCATION:Hampton Beach
CATEGORIES:Gig
END:VEVENT
BEGIN:VEVENT
DTSTART;TZID=America/New_York:20190608T170000
DTEND;TZID=America/New_York:20190608T200000
DTSTAMP:20260425T113316
CREATED:20190127T201528Z
LAST-MODIFIED:20190127T201528Z
UID:344-1560013200-1560024000@www.graniteplanetband.com
SUMMARY:Jellystone Campground
DESCRIPTION:Jellystone Campground in Ashland\, NH.
URL:https://www.graniteplanetband.com/event/jellystone-campground/
CATEGORIES:Gig
END:VEVENT
END:VCALENDAR