BEGIN:VCALENDAR
VERSION:2.0
PRODID:-//Granite Planet - ECPv6.15.20//NONSGML v1.0//EN
CALSCALE:GREGORIAN
METHOD:PUBLISH
X-ORIGINAL-URL:https://www.graniteplanetband.com
X-WR-CALDESC:Events for Granite Planet
REFRESH-INTERVAL;VALUE=DURATION:PT1H
X-Robots-Tag:noindex
X-PUBLISHED-TTL:PT1H
BEGIN:VTIMEZONE
TZID:America/New_York
BEGIN:DAYLIGHT
TZOFFSETFROM:-0500
TZOFFSETTO:-0400
TZNAME:EDT
DTSTART:20240310T070000
END:DAYLIGHT
BEGIN:STANDARD
TZOFFSETFROM:-0400
TZOFFSETTO:-0500
TZNAME:EST
DTSTART:20241103T060000
END:STANDARD
BEGIN:DAYLIGHT
TZOFFSETFROM:-0500
TZOFFSETTO:-0400
TZNAME:EDT
DTSTART:20250309T070000
END:DAYLIGHT
BEGIN:STANDARD
TZOFFSETFROM:-0400
TZOFFSETTO:-0500
TZNAME:EST
DTSTART:20251102T060000
END:STANDARD
BEGIN:DAYLIGHT
TZOFFSETFROM:-0500
TZOFFSETTO:-0400
TZNAME:EDT
DTSTART:20260308T070000
END:DAYLIGHT
BEGIN:STANDARD
TZOFFSETFROM:-0400
TZOFFSETTO:-0500
TZNAME:EST
DTSTART:20261101T060000
END:STANDARD
BEGIN:DAYLIGHT
TZOFFSETFROM:-0500
TZOFFSETTO:-0400
TZNAME:EDT
DTSTART:20270314T070000
END:DAYLIGHT
BEGIN:STANDARD
TZOFFSETFROM:-0400
TZOFFSETTO:-0500
TZNAME:EST
DTSTART:20271107T060000
END:STANDARD
END:VTIMEZONE
BEGIN:VEVENT
DTSTART;TZID=America/New_York:20250723T183000
DTEND;TZID=America/New_York:20250723T200000
DTSTAMP:20260425T064025
CREATED:20250116T193724Z
LAST-MODIFIED:20250116T194132Z
UID:573-1753295400-1753300800@www.graniteplanetband.com
SUMMARY:Smyth Public Library
DESCRIPTION:55 High Street \nCandia\, NH 03034
URL:https://www.graniteplanetband.com/event/smyth-public-library/
END:VEVENT
BEGIN:VEVENT
DTSTART;TZID=America/New_York:20250726T190000
DTEND;TZID=America/New_York:20250726T220000
DTSTAMP:20260425T064025
CREATED:20250128T175518Z
LAST-MODIFIED:20250128T175518Z
UID:578-1753556400-1753567200@www.graniteplanetband.com
SUMMARY:Forest Glen campground
DESCRIPTION:Lee NH
URL:https://www.graniteplanetband.com/event/forest-glen-campground/
END:VEVENT
BEGIN:VEVENT
DTSTART;TZID=America/New_York:20250802T190000
DTEND;TZID=America/New_York:20250802T210000
DTSTAMP:20260425T064025
CREATED:20250116T194040Z
LAST-MODIFIED:20250116T194040Z
UID:575-1754161200-1754168400@www.graniteplanetband.com
SUMMARY:Beaver Dam Campground\, Berwick ME
DESCRIPTION:
URL:https://www.graniteplanetband.com/event/beaver-dam-campground-berwick-me/
END:VEVENT
BEGIN:VEVENT
DTSTART;TZID=America/New_York:20260606T190000
DTEND;TZID=America/New_York:20260606T220000
DTSTAMP:20260425T064025
CREATED:20260328T143547Z
LAST-MODIFIED:20260328T143547Z
UID:600-1780772400-1780783200@www.graniteplanetband.com
SUMMARY:Tuxbury Pond Campground
DESCRIPTION:
URL:https://www.graniteplanetband.com/event/tuxbury-pond-campground-3/
END:VEVENT
BEGIN:VEVENT
DTSTART;TZID=America/New_York:20260627T190000
DTEND;TZID=America/New_York:20260627T220000
DTSTAMP:20260425T064025
CREATED:20260328T143702Z
LAST-MODIFIED:20260328T144054Z
UID:602-1782586800-1782597600@www.graniteplanetband.com
SUMMARY:Pine Acres campground
DESCRIPTION:
URL:https://www.graniteplanetband.com/event/pine-acres/
END:VEVENT
BEGIN:VEVENT
DTSTART;TZID=America/New_York:20260709T183000
DTEND;TZID=America/New_York:20260709T200000
DTSTAMP:20260425T064025
CREATED:20260114T100836Z
LAST-MODIFIED:20260114T100836Z
UID:598-1783621800-1783627200@www.graniteplanetband.com
SUMMARY:Lyman public library concert in the park
DESCRIPTION:Chadbourne Field\, 10 John Street
URL:https://www.graniteplanetband.com/event/lyman-public-library-concert-in-the-park-3/
END:VEVENT
BEGIN:VEVENT
DTSTART;TZID=America/New_York:20260722T183000
DTEND;TZID=America/New_York:20260722T200000
DTSTAMP:20260425T064025
CREATED:20260114T100105Z
LAST-MODIFIED:20260114T100105Z
UID:596-1784745000-1784750400@www.graniteplanetband.com
SUMMARY:Smyth Public Library
DESCRIPTION:55 High Street \nCandia\, NH 03034
URL:https://www.graniteplanetband.com/event/smyth-public-library-2/
END:VEVENT
END:VCALENDAR