BEGIN:VCALENDAR
VERSION:2.0
PRODID:-//Granite Planet - ECPv6.15.20//NONSGML v1.0//EN
CALSCALE:GREGORIAN
METHOD:PUBLISH
X-WR-CALNAME:Granite Planet
X-ORIGINAL-URL:https://www.graniteplanetband.com
X-WR-CALDESC:Events for Granite Planet
REFRESH-INTERVAL;VALUE=DURATION:PT1H
X-Robots-Tag:noindex
X-PUBLISHED-TTL:PT1H
BEGIN:VTIMEZONE
TZID:America/New_York
BEGIN:DAYLIGHT
TZOFFSETFROM:-0500
TZOFFSETTO:-0400
TZNAME:EDT
DTSTART:20180311T070000
END:DAYLIGHT
BEGIN:STANDARD
TZOFFSETFROM:-0400
TZOFFSETTO:-0500
TZNAME:EST
DTSTART:20181104T060000
END:STANDARD
BEGIN:DAYLIGHT
TZOFFSETFROM:-0500
TZOFFSETTO:-0400
TZNAME:EDT
DTSTART:20190310T070000
END:DAYLIGHT
BEGIN:STANDARD
TZOFFSETFROM:-0400
TZOFFSETTO:-0500
TZNAME:EST
DTSTART:20191103T060000
END:STANDARD
BEGIN:DAYLIGHT
TZOFFSETFROM:-0500
TZOFFSETTO:-0400
TZNAME:EDT
DTSTART:20200308T070000
END:DAYLIGHT
BEGIN:STANDARD
TZOFFSETFROM:-0400
TZOFFSETTO:-0500
TZNAME:EST
DTSTART:20201101T060000
END:STANDARD
BEGIN:DAYLIGHT
TZOFFSETFROM:-0500
TZOFFSETTO:-0400
TZNAME:EDT
DTSTART:20210314T070000
END:DAYLIGHT
BEGIN:STANDARD
TZOFFSETFROM:-0400
TZOFFSETTO:-0500
TZNAME:EST
DTSTART:20211107T060000
END:STANDARD
BEGIN:DAYLIGHT
TZOFFSETFROM:-0500
TZOFFSETTO:-0400
TZNAME:EDT
DTSTART:20220313T070000
END:DAYLIGHT
BEGIN:STANDARD
TZOFFSETFROM:-0400
TZOFFSETTO:-0500
TZNAME:EST
DTSTART:20221106T060000
END:STANDARD
BEGIN:DAYLIGHT
TZOFFSETFROM:-0500
TZOFFSETTO:-0400
TZNAME:EDT
DTSTART:20230312T070000
END:DAYLIGHT
BEGIN:STANDARD
TZOFFSETFROM:-0400
TZOFFSETTO:-0500
TZNAME:EST
DTSTART:20231105T060000
END:STANDARD
BEGIN:DAYLIGHT
TZOFFSETFROM:-0500
TZOFFSETTO:-0400
TZNAME:EDT
DTSTART:20240310T070000
END:DAYLIGHT
BEGIN:STANDARD
TZOFFSETFROM:-0400
TZOFFSETTO:-0500
TZNAME:EST
DTSTART:20241103T060000
END:STANDARD
BEGIN:DAYLIGHT
TZOFFSETFROM:-0500
TZOFFSETTO:-0400
TZNAME:EDT
DTSTART:20250309T070000
END:DAYLIGHT
BEGIN:STANDARD
TZOFFSETFROM:-0400
TZOFFSETTO:-0500
TZNAME:EST
DTSTART:20251102T060000
END:STANDARD
BEGIN:DAYLIGHT
TZOFFSETFROM:-0500
TZOFFSETTO:-0400
TZNAME:EDT
DTSTART:20260308T070000
END:DAYLIGHT
BEGIN:STANDARD
TZOFFSETFROM:-0400
TZOFFSETTO:-0500
TZNAME:EST
DTSTART:20261101T060000
END:STANDARD
END:VTIMEZONE
BEGIN:VEVENT
DTSTART;TZID=America/New_York:20250802T190000
DTEND;TZID=America/New_York:20250802T210000
DTSTAMP:20260423T192815
CREATED:20250116T194040Z
LAST-MODIFIED:20250116T194040Z
UID:575-1754161200-1754168400@www.graniteplanetband.com
SUMMARY:Beaver Dam Campground\, Berwick ME
DESCRIPTION:
URL:https://www.graniteplanetband.com/event/beaver-dam-campground-berwick-me/
END:VEVENT
BEGIN:VEVENT
DTSTART;TZID=America/New_York:20250726T190000
DTEND;TZID=America/New_York:20250726T220000
DTSTAMP:20260423T192815
CREATED:20250128T175518Z
LAST-MODIFIED:20250128T175518Z
UID:578-1753556400-1753567200@www.graniteplanetband.com
SUMMARY:Forest Glen campground
DESCRIPTION:Lee NH
URL:https://www.graniteplanetband.com/event/forest-glen-campground/
END:VEVENT
BEGIN:VEVENT
DTSTART;TZID=America/New_York:20250723T183000
DTEND;TZID=America/New_York:20250723T200000
DTSTAMP:20260423T192815
CREATED:20250116T193724Z
LAST-MODIFIED:20250116T194132Z
UID:573-1753295400-1753300800@www.graniteplanetband.com
SUMMARY:Smyth Public Library
DESCRIPTION:55 High Street \nCandia\, NH 03034
URL:https://www.graniteplanetband.com/event/smyth-public-library/
END:VEVENT
BEGIN:VEVENT
DTSTART;TZID=America/New_York:20250719T180000
DTEND;TZID=America/New_York:20250719T200000
DTSTAMP:20260423T192815
CREATED:20250315T180758Z
LAST-MODIFIED:20250315T180758Z
UID:585-1752948000-1752955200@www.graniteplanetband.com
SUMMARY:Tuxbury Pond Campground
DESCRIPTION:South Hampton\, NH
URL:https://www.graniteplanetband.com/event/tuxbury-pond-campground-2/
END:VEVENT
BEGIN:VEVENT
DTSTART;TZID=America/New_York:20250710T183000
DTEND;TZID=America/New_York:20250710T200000
DTSTAMP:20260423T192815
CREATED:20250204T135440Z
LAST-MODIFIED:20250204T135715Z
UID:580-1752172200-1752177600@www.graniteplanetband.com
SUMMARY:Lyman public library concert in the park
DESCRIPTION:10 John St\, Lyman\, ME 04002
URL:https://www.graniteplanetband.com/event/lyman-public-library-concert-in-the-park-2/
END:VEVENT
BEGIN:VEVENT
DTSTART;TZID=America/New_York:20250705T190000
DTEND;TZID=America/New_York:20250705T200000
DTSTAMP:20260423T192815
CREATED:20250420T151256Z
LAST-MODIFIED:20250420T151256Z
UID:590-1751742000-1751745600@www.graniteplanetband.com
SUMMARY:First Baptist Church of Brentwood
DESCRIPTION:Concert series \n201 North Road\, Brentwood\, NH 03833
URL:https://www.graniteplanetband.com/event/first-baptist-church-of-brentwood/
END:VEVENT
BEGIN:VEVENT
DTSTART;TZID=America/New_York:20240906T080000
DTEND;TZID=America/New_York:20240906T170000
DTSTAMP:20260423T192815
CREATED:20240601T194212Z
LAST-MODIFIED:20240601T194212Z
UID:557-1725609600-1725642000@www.graniteplanetband.com
SUMMARY:Private event
DESCRIPTION:
URL:https://www.graniteplanetband.com/event/private-event/
END:VEVENT
BEGIN:VEVENT
DTSTART;TZID=America/New_York:20240810T190000
DTEND;TZID=America/New_York:20240810T220000
DTSTAMP:20260423T192815
CREATED:20240116T195223Z
LAST-MODIFIED:20240116T195223Z
UID:540-1723316400-1723327200@www.graniteplanetband.com
SUMMARY:Forest Glen Campground\, Lee NH
DESCRIPTION:
URL:https://www.graniteplanetband.com/event/forest-glen-campground-lee-nh/
END:VEVENT
BEGIN:VEVENT
DTSTART;TZID=America/New_York:20240808T180000
DTEND;TZID=America/New_York:20240808T193000
DTSTAMP:20260423T192815
CREATED:20240413T180714Z
LAST-MODIFIED:20240413T180714Z
UID:551-1723140000-1723145400@www.graniteplanetband.com
SUMMARY:Raymond Summer Concert Series
DESCRIPTION:Town Common Gazebo
URL:https://www.graniteplanetband.com/event/raymond-summer-concert-series/
END:VEVENT
BEGIN:VEVENT
DTSTART;TZID=America/New_York:20240717T183000
DTEND;TZID=America/New_York:20240717T200000
DTSTAMP:20260423T192815
CREATED:20240425T180110Z
LAST-MODIFIED:20240425T180110Z
UID:554-1721241000-1721246400@www.graniteplanetband.com
SUMMARY:Smyth Public Library Gazebo
DESCRIPTION:55 High Street\nCandia NH
URL:https://www.graniteplanetband.com/event/smyth-public-library-gazebo/
END:VEVENT
BEGIN:VEVENT
DTSTART;TZID=America/New_York:20240711T183000
DTEND;TZID=America/New_York:20240711T203000
DTSTAMP:20260423T192815
CREATED:20240113T202825Z
LAST-MODIFIED:20240113T202825Z
UID:537-1720722600-1720729800@www.graniteplanetband.com
SUMMARY:Lyman public library concert in the park
DESCRIPTION:
URL:https://www.graniteplanetband.com/event/lyman-public-library-concert-in-the-park/
END:VEVENT
BEGIN:VEVENT
DTSTART;TZID=America/New_York:20230930T190000
DTEND;TZID=America/New_York:20230930T210000
DTSTAMP:20260423T192815
CREATED:20230829T115218Z
LAST-MODIFIED:20230829T115218Z
UID:532-1696100400-1696107600@www.graniteplanetband.com
SUMMARY:Tilton American Legion
DESCRIPTION:
URL:https://www.graniteplanetband.com/event/tilton-american-legion/
END:VEVENT
BEGIN:VEVENT
DTSTART;TZID=America/New_York:20230923T180000
DTEND;TZID=America/New_York:20230923T200000
DTSTAMP:20260423T192815
CREATED:20230312T150522Z
LAST-MODIFIED:20230326T172610Z
UID:509-1695492000-1695499200@www.graniteplanetband.com
SUMMARY:Forest Glen Campground\, Lee NH
DESCRIPTION:
URL:https://www.graniteplanetband.com/event/campground-gig-lee-nh/
END:VEVENT
BEGIN:VEVENT
DTSTART;TZID=America/New_York:20230916T200000
DTEND;TZID=America/New_York:20230916T220000
DTSTAMP:20260423T192815
CREATED:20230603T163532Z
LAST-MODIFIED:20230912T120805Z
UID:518-1694894400-1694901600@www.graniteplanetband.com
SUMMARY:Tuxbury Pond Campground - CANCELLED
DESCRIPTION:
URL:https://www.graniteplanetband.com/event/tuxbury-pond-campground/
END:VEVENT
BEGIN:VEVENT
DTSTART;TZID=America/New_York:20230826T180000
DTEND;TZID=America/New_York:20230826T200000
DTSTAMP:20260423T192815
CREATED:20230326T172236Z
LAST-MODIFIED:20230326T172236Z
UID:512-1693072800-1693080000@www.graniteplanetband.com
SUMMARY:Danforth Bay\, Freedom NH
DESCRIPTION:
URL:https://www.graniteplanetband.com/event/danforth-bay-freedom-nh/
END:VEVENT
BEGIN:VEVENT
DTSTART;TZID=America/New_York:20230820T120000
DTEND;TZID=America/New_York:20230820T140000
DTSTAMP:20260423T192815
CREATED:20230715T173157Z
LAST-MODIFIED:20230715T173157Z
UID:523-1692532800-1692540000@www.graniteplanetband.com
SUMMARY:Tuftonboro Town Fair\, 19 Mile Bay Beach
DESCRIPTION:
URL:https://www.graniteplanetband.com/event/tuftonboro-town-fair-19-mile-bay-beach/
END:VEVENT
BEGIN:VEVENT
DTSTART;TZID=America/New_York:20230805T190000
DTEND;TZID=America/New_York:20230805T210000
DTSTAMP:20260423T192815
CREATED:20230725T020628Z
LAST-MODIFIED:20230725T020628Z
UID:528-1691262000-1691269200@www.graniteplanetband.com
SUMMARY:Celebrate Burlington (MA)
DESCRIPTION:Burlington Town Common\, Bedford Street\, Burlington MA
URL:https://www.graniteplanetband.com/event/celebrate-burlington-ma/
END:VEVENT
BEGIN:VEVENT
DTSTART;TZID=America/New_York:20230727T183000
DTEND;TZID=America/New_York:20230727T200000
DTSTAMP:20260423T192815
CREATED:20221218T165730Z
LAST-MODIFIED:20230725T092643Z
UID:487-1690482600-1690488000@www.graniteplanetband.com
SUMMARY:Lyman Public Library\, Lyman ME
DESCRIPTION:Outdoor park at Lyman Public Library\, address is 10 John Street\, Lyman\, ME 04002
URL:https://www.graniteplanetband.com/event/lyman-public-library-lyman-me/
END:VEVENT
BEGIN:VEVENT
DTSTART;TZID=America/New_York:20230719T183000
DTEND;TZID=America/New_York:20230719T193000
DTSTAMP:20260423T192815
CREATED:20230219T182319Z
LAST-MODIFIED:20230219T182319Z
UID:492-1689791400-1689795000@www.graniteplanetband.com
SUMMARY:Summer Music on the Lawn series
DESCRIPTION:
URL:https://www.graniteplanetband.com/event/summer-music-on-the-lawn-series/
LOCATION:Durham Public Library
END:VEVENT
BEGIN:VEVENT
DTSTART;TZID=America/New_York:20230610T180000
DTEND;TZID=America/New_York:20230610T200000
DTSTAMP:20260423T192815
CREATED:20230604T085559Z
LAST-MODIFIED:20230604T085559Z
UID:520-1686420000-1686427200@www.graniteplanetband.com
SUMMARY:Danforth Bay RV park\, The Bluffs
DESCRIPTION:
URL:https://www.graniteplanetband.com/event/danforth-bay-rv-park-the-bluffs/
END:VEVENT
BEGIN:VEVENT
DTSTART;TZID=America/New_York:20221008T183000
DTEND;TZID=America/New_York:20221008T203000
DTSTAMP:20260423T192815
CREATED:20220420T215001Z
LAST-MODIFIED:20220421T111914Z
UID:455-1665253800-1665261000@www.graniteplanetband.com
SUMMARY:Huttopia\, Sanford ME
DESCRIPTION:
URL:https://www.graniteplanetband.com/event/huttopia-sanford-me/
END:VEVENT
BEGIN:VEVENT
DTSTART;TZID=America/New_York:20220827T150000
DTEND;TZID=America/New_York:20220827T180000
DTSTAMP:20260423T192815
CREATED:20220709T173026Z
LAST-MODIFIED:20220709T173026Z
UID:473-1661612400-1661623200@www.graniteplanetband.com
SUMMARY:Cascade Campground
DESCRIPTION:
URL:https://www.graniteplanetband.com/event/cascade-campground/
END:VEVENT
BEGIN:VEVENT
DTSTART;TZID=America/New_York:20220811T183000
DTEND;TZID=America/New_York:20220811T203000
DTSTAMP:20260423T192815
CREATED:20220605T182717Z
LAST-MODIFIED:20220605T182717Z
UID:468-1660242600-1660249800@www.graniteplanetband.com
SUMMARY:Field of Dreams Community Park\, Salem NH
DESCRIPTION:
URL:https://www.graniteplanetband.com/event/field-of-dreams-community-park-salem-nh/
END:VEVENT
BEGIN:VEVENT
DTSTART;TZID=America/New_York:20220707T183000
DTEND;TZID=America/New_York:20220707T203000
DTSTAMP:20260423T192815
CREATED:20220420T214739Z
LAST-MODIFIED:20220420T214739Z
UID:453-1657218600-1657225800@www.graniteplanetband.com
SUMMARY:Tuftonboro Pavilion
DESCRIPTION:
URL:https://www.graniteplanetband.com/event/tuftonboro-pavilion/
LOCATION:19 Mile Bay Bay Beach
END:VEVENT
BEGIN:VEVENT
DTSTART;TZID=America/New_York:20220618T180000
DTEND;TZID=America/New_York:20220618T200000
DTSTAMP:20260423T192815
CREATED:20220605T182236Z
LAST-MODIFIED:20220605T182236Z
UID:465-1655575200-1655582400@www.graniteplanetband.com
SUMMARY:Danforth Bay campground
DESCRIPTION:
URL:https://www.graniteplanetband.com/event/danforth-bay-campground-2/
END:VEVENT
BEGIN:VEVENT
DTSTART;TZID=America/New_York:20220507T170000
DTEND;TZID=America/New_York:20220507T190000
DTSTAMP:20260423T192815
CREATED:20220424T200046Z
LAST-MODIFIED:20220424T200046Z
UID:462-1651942800-1651950000@www.graniteplanetband.com
SUMMARY:NEWBURYPORT MASONIC HALL
DESCRIPTION:
URL:https://www.graniteplanetband.com/event/newburyport-masonic-hall/
CATEGORIES:Private Party
END:VEVENT
BEGIN:VEVENT
DTSTART;TZID=America/New_York:20191013T193000
DTEND;TZID=America/New_York:20191013T210000
DTSTAMP:20260423T192815
CREATED:20190602T152534Z
LAST-MODIFIED:20190602T152534Z
UID:359-1570995000-1571000400@www.graniteplanetband.com
SUMMARY:Danforth Bay Campground
DESCRIPTION:Granite Planet plays for guests at the Danforth Bay Campground in Freedom\, NH.
URL:https://www.graniteplanetband.com/event/danforth-bay-campground/
LOCATION:Danforth Bay Campground\, Freedom\, NH
CATEGORIES:Gig,Private Party
END:VEVENT
BEGIN:VEVENT
DTSTART;TZID=America/New_York:20190831T110000
DTEND;TZID=America/New_York:20190831T130000
DTSTAMP:20260423T192815
CREATED:20190127T201940Z
LAST-MODIFIED:20190127T201940Z
UID:350-1567249200-1567256400@www.graniteplanetband.com
SUMMARY:York Beach End of Summer Concert
DESCRIPTION:Granite Planet returns to York Beach on August 31\, 2019\, from 11am-1pm for an end of summer concert on the beach!
URL:https://www.graniteplanetband.com/event/york-beach-end-of-summer-concert/
CATEGORIES:Gig
END:VEVENT
BEGIN:VEVENT
DTSTART;TZID=America/New_York:20190821T130000
DTEND;TZID=America/New_York:20190821T170000
DTSTAMP:20260423T192815
CREATED:20190602T152841Z
LAST-MODIFIED:20190602T152841Z
UID:362-1566392400-1566406800@www.graniteplanetband.com
SUMMARY:TAP BBQ at Pease
DESCRIPTION:Granite Planet plays the TAP group annual summer BBQ at Pease!
URL:https://www.graniteplanetband.com/event/tap-bbq-at-pease/
LOCATION:Grille 28\, Portsmouth\, NH
CATEGORIES:Gig,Private Party
END:VEVENT
BEGIN:VEVENT
DTSTART;TZID=America/New_York:20190816T180000
DTEND;TZID=America/New_York:20190816T200000
DTSTAMP:20260423T192815
CREATED:20190602T152246Z
LAST-MODIFIED:20190602T152246Z
UID:357-1565978400-1565985600@www.graniteplanetband.com
SUMMARY:Huttopia Campground
DESCRIPTION:Granite Planet plays for guests at Huttopia in Sanford\, ME.
URL:https://www.graniteplanetband.com/event/huttopia-campground-2/
LOCATION:Huttopia Sanford\, ME
CATEGORIES:Gig,Private Party
END:VEVENT
END:VCALENDAR